BEGIN:VCALENDAR
VERSION:2.0
PRODID:-//Budds Creek - ECPv6.9.0//NONSGML v1.0//EN
CALSCALE:GREGORIAN
METHOD:PUBLISH
X-WR-CALNAME:Budds Creek
X-ORIGINAL-URL:https://buddscreek.com
X-WR-CALDESC:Events for Budds Creek
REFRESH-INTERVAL;VALUE=DURATION:PT1H
X-Robots-Tag:noindex
X-PUBLISHED-TTL:PT1H
BEGIN:VTIMEZONE
TZID:America/New_York
BEGIN:DAYLIGHT
TZOFFSETFROM:-0500
TZOFFSETTO:-0400
TZNAME:EDT
DTSTART:20250309T070000
END:DAYLIGHT
BEGIN:STANDARD
TZOFFSETFROM:-0400
TZOFFSETTO:-0500
TZNAME:EST
DTSTART:20251102T060000
END:STANDARD
END:VTIMEZONE
BEGIN:VEVENT
DTSTART;TZID=America/New_York:20250718T090000
DTEND;TZID=America/New_York:20250718T140000
DTSTAMP:20260421T075743
CREATED:20250116T001929Z
LAST-MODIFIED:20250116T001929Z
UID:10000437-1752829200-1752847200@buddscreek.com
SUMMARY:MDMX Clinic Training
DESCRIPTION:Please visit link below for more information!\nhttps://www.motorcyclecoaching.org/acoach/9adf1d1d-3eb0-4c1e-ba91-56eb0f97390d?fbclid=PAZXh0bgNhZW0CMTEAAabRU8gwtRSf6u1abKWIVGvZOn5qhC5ATwWrty1zYb5CUC1SBV8iBTTtbg0_aem_P-hYyZ2xAW6UsRrA6Iwe3w
URL:https://buddscreek.com/event/mdmx-clinic-training-5/
LOCATION:Budds Creek Motorsports Park\, 27963 Budds Creek Road\, Mechanicsville\, MD\, 20659\, United States
END:VEVENT
BEGIN:VEVENT
DTSTART;VALUE=DATE:20250719
DTEND;VALUE=DATE:20250720
DTSTAMP:20260421T075743
CREATED:20241211T195318Z
LAST-MODIFIED:20241211T195318Z
UID:10000425-1752883200-1752969599@buddscreek.com
SUMMARY:Budds Creek Supercross Series Round 1
DESCRIPTION:More info to come!
URL:https://buddscreek.com/event/budds-creek-supercross-series-round-1/
LOCATION:Budds Creek Motorsports Park\, 27963 Budds Creek Road\, Mechanicsville\, MD\, 20659\, United States
END:VEVENT
BEGIN:VEVENT
DTSTART;TZID=America/New_York:20250719T090000
DTEND;TZID=America/New_York:20250719T160000
DTSTAMP:20260421T075743
CREATED:20241211T194224Z
LAST-MODIFIED:20241211T200214Z
UID:10000417-1752915600-1752940800@buddscreek.com
SUMMARY:MX Practice
DESCRIPTION:More info to come!
URL:https://buddscreek.com/event/practice-10/
LOCATION:Budds Creek Motorsports Park\, 27963 Budds Creek Road\, Mechanicsville\, MD\, 20659\, United States
END:VEVENT
BEGIN:VEVENT
DTSTART;TZID=America/New_York:20250720T080000
DTEND;TZID=America/New_York:20250720T170000
DTSTAMP:20260421T075743
CREATED:20241211T195208Z
LAST-MODIFIED:20241211T195208Z
UID:10000424-1752998400-1753030800@buddscreek.com
SUMMARY:Capitol Cup/D13/D2 - MX Race
DESCRIPTION:More info to come!
URL:https://buddscreek.com/event/capitol-cup-d13-d2-mx-race/
LOCATION:Budds Creek Motorsports Park\, 27963 Budds Creek Road\, Mechanicsville\, MD\, 20659\, United States
END:VEVENT
BEGIN:VEVENT
DTSTART;TZID=America/New_York:20250726T090000
DTEND;TZID=America/New_York:20250726T160000
DTSTAMP:20260421T075743
CREATED:20241211T193825Z
LAST-MODIFIED:20250218T221551Z
UID:10000411-1753520400-1753545600@buddscreek.com
SUMMARY:MX Practice
DESCRIPTION:ALL weekend event info can be found here: https://buddscreek.com/event/district-6-henrietta-series-race/
URL:https://buddscreek.com/event/practice-5/
LOCATION:Budds Creek Motorsports Park\, 27963 Budds Creek Road\, Mechanicsville\, MD\, 20659\, United States
END:VEVENT
BEGIN:VEVENT
DTSTART;TZID=America/New_York:20250727T080000
DTEND;TZID=America/New_York:20250727T170000
DTSTAMP:20260421T075743
CREATED:20241211T193717Z
LAST-MODIFIED:20250724T201857Z
UID:10000410-1753603200-1753635600@buddscreek.com
SUMMARY:District 6 Henrietta Series - MX Race
DESCRIPTION:This weekend is our reschedule for the District 6 Henrietta Series. It is our first time welcoming this series to Budds Creek! Lets being some full gates!\n\n\nPre Registration\nhttps://secure.tracksideprereg.com/buddscreek/index.asp…\n\n\n\nSchedule\nFriday\n3pm: Gate Open\n6:30pm-8pm: Registration Open\n10pm: Gate Closed\n\n\nSaturday\n7am: Gate Open\n8am-3:30pm: Registration Open\n9am: Motocross Practice Starts\n10pm: Gate Closed\n\n\nSunday\n6am: Gate Open\n6:30am: Registration Open\n7:30am: Riders Meeting\n8am: Practice Start\, Racing Following Practice\n\n\n\nPremier Camping\nhttps://secure.tracksideprereg.com/buddscreek/index.asp…\n\n\n\nGate Fees\n\nFriday Through Weekend\nAll riders and ages 12+: $30\nNon riders ages 6-11: $20\n\n\n\nSaturday Through Weekend\nAll riders and ages 12+: $25\nNon riders ages 6-11: $15\n\n\n\nSaturday Only\nAges 6+ and all riders: $10\n\n\n\nSunday Only\nAll riders and ages 12+: $20\nNon riders ages 6-11: $10\n\n\n\nRiding Fees\nSaturday Practice: $35/class\nSunday Race: $40/class\n\n\n\n\n\n\n\n\n\n\n\n\n\n\n\n\n\n\n\n\n\n\n\n\n\nSaturday Practice order (Practice Stickers Required):\n1️⃣A/B\n2️⃣85\n3️⃣50 Full Track\n4️⃣C\n5️⃣65\n6️⃣Vet/Women\n7️⃣Supermini\n8️⃣Big Bike Open (125cc+)\n9️⃣50 Half Track \nSUNDAY 2 lap practice order (same practice sticker as Saturday:\n1️⃣A/B\n2️⃣85\n3️⃣50 Full Track\n4️⃣C\n5️⃣65\n6️⃣Vet/Women\n7️⃣Supermini\n8️⃣50 Half Track
URL:https://buddscreek.com/event/district-6-henrietta-series-race/
LOCATION:Budds Creek Motorsports Park\, 27963 Budds Creek Road\, Mechanicsville\, MD\, 20659\, United States
END:VEVENT
END:VCALENDAR