BEGIN:VCALENDAR
VERSION:2.0
PRODID:-//Budds Creek - ECPv6.9.0//NONSGML v1.0//EN
CALSCALE:GREGORIAN
METHOD:PUBLISH
X-WR-CALNAME:Budds Creek
X-ORIGINAL-URL:https://buddscreek.com
X-WR-CALDESC:Events for Budds Creek
REFRESH-INTERVAL;VALUE=DURATION:PT1H
X-Robots-Tag:noindex
X-PUBLISHED-TTL:PT1H
BEGIN:VTIMEZONE
TZID:America/New_York
BEGIN:DAYLIGHT
TZOFFSETFROM:-0500
TZOFFSETTO:-0400
TZNAME:EDT
DTSTART:20250309T070000
END:DAYLIGHT
BEGIN:STANDARD
TZOFFSETFROM:-0400
TZOFFSETTO:-0500
TZNAME:EST
DTSTART:20251102T060000
END:STANDARD
END:VTIMEZONE
BEGIN:VEVENT
DTSTART;TZID=America/New_York:20250404T090000
DTEND;TZID=America/New_York:20250404T140000
DTSTAMP:20260421T065404
CREATED:20250320T181904Z
LAST-MODIFIED:20250320T181904Z
UID:10000443-1743757200-1743775200@buddscreek.com
SUMMARY:MDMX Clinic Training
DESCRIPTION:Please visit link below for more information!\nhttps://www.motorcyclecoaching.org/acoach/9adf1d1d-3eb0-4c1e-ba91-56eb0f97390d?fbclid=PAZXh0bgNhZW0CMTEAAabRU8gwtRSf6u1abKWIVGvZOn5qhC5ATwWrty1zYb5CUC1SBV8iBTTtbg0_aem_P-hYyZ2xAW6UsRrA6Iwe3w
URL:https://buddscreek.com/event/mdmx-clinic-training-7/
LOCATION:Budds Creek Motorsports Park\, 27963 Budds Creek Road\, Mechanicsville\, MD\, 20659\, United States
END:VEVENT
BEGIN:VEVENT
DTSTART;TZID=America/New_York:20250405T080000
DTEND;TZID=America/New_York:20250405T170000
DTSTAMP:20260421T065404
CREATED:20241211T194543Z
LAST-MODIFIED:20241211T194543Z
UID:10000420-1743840000-1743872400@buddscreek.com
SUMMARY:Masters - Race
DESCRIPTION:More info to come!
URL:https://buddscreek.com/event/masters-race/
LOCATION:Budds Creek Motorsports Park\, 27963 Budds Creek Road\, Mechanicsville\, MD\, 20659\, United States
END:VEVENT
BEGIN:VEVENT
DTSTART;TZID=America/New_York:20250428T080000
DTEND;TZID=America/New_York:20250428T170000
DTSTAMP:20260421T065404
CREATED:20250320T182410Z
LAST-MODIFIED:20250320T182410Z
UID:10000444-1745827200-1745859600@buddscreek.com
SUMMARY:The MX Factory
DESCRIPTION:For More Info Visit https://themxfactory.com \n  \n 
URL:https://buddscreek.com/event/the-mx-factory/
END:VEVENT
END:VCALENDAR