BEGIN:VCALENDAR
VERSION:2.0
PRODID:-//Budds Creek - ECPv6.9.0//NONSGML v1.0//EN
CALSCALE:GREGORIAN
METHOD:PUBLISH
X-ORIGINAL-URL:https://buddscreek.com
X-WR-CALDESC:Events for Budds Creek
REFRESH-INTERVAL;VALUE=DURATION:PT1H
X-Robots-Tag:noindex
X-PUBLISHED-TTL:PT1H
BEGIN:VTIMEZONE
TZID:America/New_York
BEGIN:DAYLIGHT
TZOFFSETFROM:-0500
TZOFFSETTO:-0400
TZNAME:EDT
DTSTART:20250309T070000
END:DAYLIGHT
BEGIN:STANDARD
TZOFFSETFROM:-0400
TZOFFSETTO:-0500
TZNAME:EST
DTSTART:20251102T060000
END:STANDARD
END:VTIMEZONE
BEGIN:VEVENT
DTSTART;TZID=America/New_York:20250301T090000
DTEND;TZID=America/New_York:20250301T160000
DTSTAMP:20260421T065521
CREATED:20241211T193952Z
LAST-MODIFIED:20250212T040950Z
UID:10000413-1740819600-1740844800@buddscreek.com
SUMMARY:MX Practice
DESCRIPTION:Weekend event info (including practice order) can be found here: https://buddscreek.com/event/mdra-capitol-cup-race/
URL:https://buddscreek.com/event/practice-6/
LOCATION:Budds Creek Motorsports Park\, 27963 Budds Creek Road\, Mechanicsville\, MD\, 20659\, United States
END:VEVENT
BEGIN:VEVENT
DTSTART;TZID=America/New_York:20250302T080000
DTEND;TZID=America/New_York:20250302T170000
DTSTAMP:20260421T065521
CREATED:20241211T193916Z
LAST-MODIFIED:20250224T170931Z
UID:10000412-1740902400-1740934800@buddscreek.com
SUMMARY:MDRA/Capitol Cup - MX Race
DESCRIPTION:Few things to note:\n🏁AMA membership required for practice & racing. Can be purchased here: https://americanmotorcyclist.com/ama-event-membership-form?promoterCode=BUDCRK\n🏁MDRA or Capitol Cup membership required for racing OR you can purchase an MDRA day pass membership. Capitol Cup memberships can be purchased here: https://secure.tracksideprereg.com/buddscreek/?event=EA12EAAFE5FD471DBE1E75F8FCEFFF20\n🏁Mylaps Transponders are required. Can be rented on site or via this link: https://secure.tracksideprereg.com/timenscore/?event=58\n🏁Premier camping reservations can be purchased via this link: https://secure.tracksideprereg.com/buddscreek/?event=eddee8076386fb7ddea8dba89ef45643\n🏁Online registration link (You still have to come to registration at the tower building to get practice sticker): https://secure.tracksideprereg.com/buddscreek/?event=f7d8ef9e68694e1ea6ce3843c5acd922\n🏁If a sole custody arrangement is not in place\, both parents must be present and sign waivers OR sign up online for ability to sign electronically OR sign the AMA Annual Waiver via this link: https://americanmotorcyclist.com/racing/racing-resources/annual-release/ \n🏁Friday MDMX clinic training: Find more information here https://www.motorcyclecoaching.org/acoach/9adf1d1d-3eb0-4c1e-ba91-56eb0f97390d?fbclid=PAZXh0bgNhZW0CMTEAAaZBrzweEx3GUt-QhJhl7KMin-D9qwJaiF2nzhjb7U59tiDlFxqp3QdEv5c_aem_ksntlPd20CcJrGBQOVCTHA \nFront gate schedule:\nFriday 2/28 open 3PM & close at 10PM – If attending MDMX Clinic Training you can arrive Thursday\nSaturday 3/1 open 7AM & close at 10 PM\nSunday 3/2 open 6AM \nGate fees (cash only front gate):\n🏁Adults & Riders:\n$25 if arriving Friday or Saturday\n$20 for Sunday only\n🏁Non rider ages 4-11:\n$20 if arriving Friday or Saturday\n$15 for Sunday only \nPractice & Racing Registration fees (cash & card accepted):\n🏁$40/class if paying cash or online \n🏁$45/class if paying with credit card in person \nStacyc Racing fees (Saturday after practice) \n🏁$20/class if paying cash \n🏁$25/class if paying with credit card \nPit vehicle passes:\n🏁$25 for the weekend\n🏁$150 for the year \nIn person registration schedule:\nFriday 6PM-8PM (PRACTICE & STACYC ONLY)\nSaturday 8AM-11AM (PRACTICE & STACYC ONLY)\nSaturday 11AM – 3PM (RACING/Practice/Stacyc REGISTRATION)\nSunday 6:30AM-8AM (RACING REGISTRATION) \nSaturday schedule:\n🕘7AM gates open\n🕘8AM in person registration opens\n🕘9AM-3PM Organized Practice (practice order below)\n🕘3PM Stacyc Racing will begin\n🕘3PM registration closes\n🕘10PM gates close \nSunday schedule:\n🕘6AM gates open\n🕘6:30AM registration opens\n🕘7:45AM riders meeting at tower building\n🕘8AM registration closes\n🕘8AM 2 lap practice starts\n‼️Gate order will be determined AFTER registration closes at 8 AM and will be posted as soon as it’s available\n🕘Racing immediately following \nSaturday Practice order (Practice Stickers Required):\n1️⃣A/B\n2️⃣85\n3️⃣50 Full Track\n4️⃣C\n5️⃣65\n6️⃣Vet/Women\n7️⃣Supermini\n8️⃣Big Bike Open (125cc+)\n9️⃣50 Half Track \nSUNDAY 2 lap practice order (same practice sticker as Saturday:\n1️⃣A/B\n2️⃣85\n3️⃣50 Full Track\n4️⃣C\n5️⃣65\n6️⃣Vet/Women\n7️⃣Supermini\n8️⃣50 Half Track
URL:https://buddscreek.com/event/mdra-capitol-cup-race/
LOCATION:Budds Creek Motorsports Park\, 27963 Budds Creek Road\, Mechanicsville\, MD\, 20659\, United States
END:VEVENT
BEGIN:VEVENT
DTSTART;TZID=America/New_York:20250303T093000
DTEND;TZID=America/New_York:20250303T163000
DTSTAMP:20260421T065521
CREATED:20250122T025844Z
LAST-MODIFIED:20250122T025844Z
UID:10000439-1740994200-1741019400@buddscreek.com
SUMMARY:The Moto Academy Training
DESCRIPTION:https://themotoacademy.com/collections/2025-tour/products/march-2nd-scrub-n-dirt-monroe-ga-copy
URL:https://buddscreek.com/event/the-moto-academy-training/
LOCATION:Budds Creek Motorsports Park\, 27963 Budds Creek Road\, Mechanicsville\, MD\, 20659\, United States
END:VEVENT
BEGIN:VEVENT
DTSTART;TZID=America/New_York:20250306T090000
DTEND;TZID=America/New_York:20250306T160000
DTSTAMP:20260421T065521
CREATED:20241211T194058Z
LAST-MODIFIED:20250212T051139Z
UID:10000414-1741251600-1741276800@buddscreek.com
SUMMARY:MX Practice
DESCRIPTION:Find all information for the entire weekend here: https://buddscreek.com/event/ll-area-qualifier/
URL:https://buddscreek.com/event/practice-7/
LOCATION:Budds Creek Motorsports Park\, 27963 Budds Creek Road\, Mechanicsville\, MD\, 20659\, United States
END:VEVENT
BEGIN:VEVENT
DTSTART;TZID=America/New_York:20250307T090000
DTEND;TZID=America/New_York:20250307T160000
DTSTAMP:20260421T065521
CREATED:20241211T194119Z
LAST-MODIFIED:20250212T051104Z
UID:10000415-1741338000-1741363200@buddscreek.com
SUMMARY:MX Practice
DESCRIPTION:Find all information for the entire weekend here: https://buddscreek.com/event/ll-area-qualifier/
URL:https://buddscreek.com/event/practice-8/
LOCATION:Budds Creek Motorsports Park\, 27963 Budds Creek Road\, Mechanicsville\, MD\, 20659\, United States
END:VEVENT
BEGIN:VEVENT
DTSTART;TZID=America/New_York:20250308T080000
DTEND;TZID=America/New_York:20250309T170000
DTSTAMP:20260421T065521
CREATED:20241211T194435Z
LAST-MODIFIED:20250306T193636Z
UID:10000419-1741420800-1741539600@buddscreek.com
SUMMARY:Loretta Lynn's Area Qualifier
DESCRIPTION:Practice THURSDAY & FRIDAY! Racing SATURDAY & SUNDAY! \n🏁AMA membership required for practice & racing. Can be purchased here: https://americanmotorcyclist.com/ama-event-membership-form?promoterCode=BUDCRK\n🏁Mylaps Transponders are required. Can be rented on site or via this link: https://secure.tracksideprereg.com/timenscore/?event=59 \n🏁Premier camping reservations can be purchased via this link: https://secure.tracksideprereg.com/buddscreek/?event=9781d2b9059229c22dc2068caf9aa2b5\n🏁Online registration link (You still have to come to registration at the tower building to get practice sticker): https://secure.tracksideprereg.com/buddscreek/?event=7d8b5a02602b090af4d8479c7990d42b\n🏁If a sole custody arrangement is not in place\, both parents must be present and sign waivers OR sign up online for ability to sign electronically OR sign the AMA Annual Waiver via this link: https://americanmotorcyclist.com/racing/racing-resources/annual-release/ \nFront gate schedule:  \n\nWednesday 3/5 gates open at 3PM and will remain open until Saturday at 10PM\nSunday 3/9 open 6AM\n\nGate fees (cash only front gate): \n\n🏁Ages 6+ & ALL Riders:\n\n$55 Wednesday arrival\n$50 Thursday arrival\n$45 Friday arrival\n$40 Saturday arrival\n$25 for Sunday only\nNOTE: Price changes at 6AM!\n\n\n🏁Ages 5 & under are free\n\nPractice Registration fees (cash & card accepted): \n\n🏁$40/class if paying cash or online\n🏁$45/class if paying with credit card in person\n\nRace Registration fees (cash & card accepted): \n\n🏁$50/class if paying cash or online\n🏁$55/class if paying with credit card in person\n\nPit vehicle passes: \n\n🏁$40 for the weekend\n🏁$150 for the year\n\nIn person registration schedule: \n\nWednesday 6PM-8PM (PRACTICE ONLY)\nThursday 8AM-2PM (PRACTICE ONLY)\nFriday 8AM-12PM (PRACTICE ONLY)\nFriday 12PM-7PM (Race Registration)\nSaturday 6AM-8AM (Race Registration)\nSunday 6AM-8AM (Race Registration)\nNOTE YOU MUST GO TO PURCHASE YOUR QUALIFIER FORM FROM THE QUALIFIER TABLE BEFORE GOING TO REGISTRATION. Qualifier forms WILL NOT BE SOLD at registration. Qualifier Form table will be clearly marked and in the general area of registration.\n\nThursday schedule: \n\n🕘8AM-2PM in person registration (PRACTICE ONLY)\n🕘9AM-3PM Organized Practice (practice order below)\n\nFriday schedule: \n\n🕘8AM-12PM in person registration (PRACTICE ONLY)\n🕘12PM-7PM in person registration (Racing registration)\n🕘9AM-5PM Organized Practice (practice order below)\n\nSaturday schedule: \n\n🕘6AM in person registration opens\n🕘7:45AM riders meeting at tower building\n🕘8AM registration closes\n🕘8AM 2 lap practice starts\n‼️Gate order will be determined AFTER registration closes at 8 AM and will be posted as soon as it’s available\n🕘Racing immediately following practice\n🕘10PM gates close\n\nSunday schedule: \n\n🕘6AM gates open\n🕘6AM registration opens\n🕘7:45AM riders meeting at tower building\n🕘8AM registration closes\n🕘8AM 2 lap practice starts\n‼️Gate order will be determined AFTER registration closes at 8 AM and will be posted as soon as it’s available\n🕘Racing immediately following practice\n\nPractice order (Practice Stickers Required): \n\n1. A/B\n2. 85/Girls\n3. 250 C\n4. All Supermini & Mini Sr.\n5. 65\n6. 50 Half Track\n7. College/Schoolboy 2\n8. Vet/Women\n9. 50 Full Track\n10. 450 C\n11. 125 C\, 125 Jr. B/C\, Schoolboy 1\n12. 50 Shaft Half Track
URL:https://buddscreek.com/event/ll-area-qualifier/
LOCATION:Budds Creek Motorsports Park\, 27963 Budds Creek Road\, Mechanicsville\, MD\, 20659\, United States
END:VEVENT
BEGIN:VEVENT
DTSTART;TZID=America/New_York:20250315T090000
DTEND;TZID=America/New_York:20250315T160000
DTSTAMP:20260421T065521
CREATED:20250219T133344Z
LAST-MODIFIED:20250219T143118Z
UID:10000441-1742029200-1742054400@buddscreek.com
SUMMARY:MX Practice & Stacyc Racing
DESCRIPTION:Organized practice 10A-4P \nStacyc practice starting at 4P and racing to follow
URL:https://buddscreek.com/event/mx-practice-stacyc-racing/
LOCATION:Budds Creek Motorsports Park\, 27963 Budds Creek Road\, Mechanicsville\, MD\, 20659\, United States
END:VEVENT
END:VCALENDAR