BEGIN:VCALENDAR
VERSION:2.0
PRODID:-//Budds Creek - ECPv6.9.0//NONSGML v1.0//EN
CALSCALE:GREGORIAN
METHOD:PUBLISH
X-WR-CALNAME:Budds Creek
X-ORIGINAL-URL:https://buddscreek.com
X-WR-CALDESC:Events for Budds Creek
REFRESH-INTERVAL;VALUE=DURATION:PT1H
X-Robots-Tag:noindex
X-PUBLISHED-TTL:PT1H
BEGIN:VTIMEZONE
TZID:America/New_York
BEGIN:DAYLIGHT
TZOFFSETFROM:-0500
TZOFFSETTO:-0400
TZNAME:EDT
DTSTART:20240310T070000
END:DAYLIGHT
BEGIN:STANDARD
TZOFFSETFROM:-0400
TZOFFSETTO:-0500
TZNAME:EST
DTSTART:20241103T060000
END:STANDARD
TZID:UTC
BEGIN:STANDARD
TZOFFSETFROM:+0000
TZOFFSETTO:+0000
TZNAME:UTC
DTSTART:20240101T000000
END:STANDARD
END:VTIMEZONE
BEGIN:VEVENT
DTSTART;VALUE=DATE:20240815
DTEND;VALUE=DATE:20240820
DTSTAMP:20260421T055643
CREATED:20240811T053343Z
LAST-MODIFIED:20240813T064314Z
UID:10000400-1723680000-1724111999@buddscreek.com
SUMMARY:Yamaha Racing Budds Creek Pro National
DESCRIPTION:Link to purchase tickets & camping passes: https://www.universe.com/events/2024-yamaha-racing-budds-creek-national-pro-motocross-round-10-tickets-W04BN7?ref=ticketmaster\nCamping:\n\nGates are closed 12AM – 6 AM daily (6:30AM on Sunday)\nWe offer “Extra Car” passes for campers that have an additional non-camping vehicle. The cost is $30 for the weekend. You can only purchase an “Extra Car” pass if you purchase a camping pass.\n\n\nEvent Maps:\n\n2024 Pro Motocross Budds Creek National Fan Map\nEvent Map (Supercross\, Cornhole\, Food Vendors)\nEvent Map (Supercross\, Amateur Day\, Food Vendors)\n\n\nCalendar of Events: \n\nThursday August 15th:\n\n12 PM: Gates open\n5:30 PM: Capitol Motocross Cup Cornhole Tournament\n\nMore info: https://buddscreek.com/event/capitol-cup-corn-hole-tournament-thursday-530-pm/\n\n\n\n\nFriday August 16th:\n\n6 AM: Gates open\n8 AM: Amateur Practice (3 rotations; weather permitting)\n\nMore info: https://mxsportsproracing.com/event/budds-creek-national/amateur-racing\n\n\n4 PM: MX Tire Amateur Supercross\n\nMore info: https://buddscreek.com/event/mx-tire-amateur-supercross/\n\n\n\n\nSaturday August 17th:\n\nPro Motocross Schedule: https://promotocross.com/race/budds-creek-national/schedule\n\n\nSunday August 18th:\n\nRnB Racing King of the Cake (Amateur Day)\n\nMore info: https://buddscreek.com/event/pro-national-amateur-day-race/\n\n\n\n\nMonday August 19th:\n\nMDMX Clinic\n\nMore info: https://buddscreek.com/event/mdmx-clinic-monday/
URL:https://buddscreek.com/event/yamaha-racing-budds-creek-pro-national/
END:VEVENT
BEGIN:VEVENT
DTSTART;TZID=UTC:20240819T080000
DTEND;TZID=UTC:20240819T150000
DTSTAMP:20260421T055643
CREATED:20240810T185628Z
LAST-MODIFIED:20240811T042902Z
UID:10000388-1724054400-1724079600@buddscreek.com
SUMMARY:MDMX Clinic (Monday)
DESCRIPTION:Cost: $260
URL:https://buddscreek.com/event/mdmx-clinic-monday/
END:VEVENT
BEGIN:VEVENT
DTSTART;TZID=UTC:20240831T080000
DTEND;TZID=UTC:20240831T170000
DTSTAMP:20260421T055643
CREATED:20240106T014531Z
LAST-MODIFIED:20240731T185518Z
UID:10000374-1725091200-1725123600@buddscreek.com
SUMMARY:TOR Offroad
DESCRIPTION:Event Info\n\n\nTOR Offroad Contact: 610-842-4197\n\n\n\n\n\nRacing Format\n\n\n\n\nTwo 30 minute motos \n\n\nOverall position will be determined by your combined moto finishes  \n\n\nexample: 1st +1st = 2 points \n\n\nLowest score wins  \n\n\nTie breaker goes to best second moto finish \n\n\nDead engine start procedure with 1 minute separating classes \n\n\n\n\nTrack Breakdown\n\n\n\n\n50% flowing woods with multiple line selection \n\n\n40% motocross/open field section \n\n\n10% D-TOR section with an easy alternate route \n\n\nConsists of rocks/logs/tires etc.
URL:https://buddscreek.com/event/tor-offroad/
END:VEVENT
END:VCALENDAR