BEGIN:VCALENDAR
VERSION:2.0
PRODID:-//Budds Creek - ECPv6.9.0//NONSGML v1.0//EN
CALSCALE:GREGORIAN
METHOD:PUBLISH
X-ORIGINAL-URL:https://buddscreek.com
X-WR-CALDESC:Events for Budds Creek
REFRESH-INTERVAL;VALUE=DURATION:PT1H
X-Robots-Tag:noindex
X-PUBLISHED-TTL:PT1H
BEGIN:VTIMEZONE
TZID:America/New_York
BEGIN:DAYLIGHT
TZOFFSETFROM:-0500
TZOFFSETTO:-0400
TZNAME:EDT
DTSTART:20250309T070000
END:DAYLIGHT
BEGIN:STANDARD
TZOFFSETFROM:-0400
TZOFFSETTO:-0500
TZNAME:EST
DTSTART:20251102T060000
END:STANDARD
END:VTIMEZONE
BEGIN:VEVENT
DTSTART;TZID=America/New_York:20251025T080000
DTEND;TZID=America/New_York:20251025T170000
DTSTAMP:20260421T080316
CREATED:20250906T204448Z
LAST-MODIFIED:20250906T204448Z
UID:10000445-1761379200-1761411600@buddscreek.com
SUMMARY:Battle of the Creek Offroad (With Wicomico Mx & Atv) (Saturday ATV)
DESCRIPTION:Schedule \nFriday \n5:00pm – 10:00pm : Gates Open (Budds Creek Only) \n6:30pm – 8:00pm : Registration Open (Budds Creek Tower Building) \nSaturday \n6:00am : Gates Open (Budds Creek) \n7:3o – End of Racing : Gates Open (Wicomico) \n6:30am – 8:00am : Registation Open \n7:45 : Riders Meeting \n8:00am : ATV Racing Begins \nSunday \n7:3o – End of Racing : Gates Open (Wicomico) \n6:30am – 8:00am : Registation Open \n7:45 : Riders Meeting \n8:00am : Motorcycle Racing Begins \n  \nClasses and Pre Registration (This is an AMA Event\, AMA cards are available onsite) \nATV Registration (Click here) \nMotorcycle Registration (Click here) \n  \nATV Classes \nA/B (201cc-Open) \nC (201cc-Open) \n30+ (201cc-Open) \n40+ (201cc-Open) \n50+ (201cc-Open) \nUtility Quad (201cc-1000cc) \nJunior (8-15) (71cc-150cc) \n90 (8-12) (71cc-90cc) \n70 (6-11) (51cc-70cc) \n50 Sr (7-11) (0-51cc) \n50 Jr (4-6) (0-51cc) \n  \nBike Classes \nA/B (122cc-Open) \nC (122cc-Open) \n25+ (122cc-Open) \n30+ (122cc-Open) \n40+ (122cc-Open) \n50+ (122cc-Open) \nWomen (122cc-Open) \nAdult E Bike \nSchoolboy (12-17) (122cc-250cc) \nSupermini (11-16) (75cc-122cc) \n85cc (8-13) (75cc-90cc) \n65cc (7-11) (52cc-65cc) \nGirls (9-15) (65cc-150cc) \n50cc (7-9) (0-51cc) \n50cc (4-6) (0-51cc) \n  \nFees \nGate fee: $20/weekend \nRace fee: $60/class
URL:https://buddscreek.com/event/battle-of-the-creek-offroad-with-wicomico-mx-atv-saturday-atv/
END:VEVENT
END:VCALENDAR