BEGIN:VCALENDAR
VERSION:2.0
PRODID:-//Budds Creek - ECPv6.9.0//NONSGML v1.0//EN
CALSCALE:GREGORIAN
METHOD:PUBLISH
X-ORIGINAL-URL:https://buddscreek.com
X-WR-CALDESC:Events for Budds Creek
REFRESH-INTERVAL;VALUE=DURATION:PT1H
X-Robots-Tag:noindex
X-PUBLISHED-TTL:PT1H
BEGIN:VTIMEZONE
TZID:UTC
BEGIN:STANDARD
TZOFFSETFROM:+0000
TZOFFSETTO:+0000
TZNAME:UTC
DTSTART:20240101T000000
END:STANDARD
TZID:America/New_York
BEGIN:DAYLIGHT
TZOFFSETFROM:-0500
TZOFFSETTO:-0400
TZNAME:EDT
DTSTART:20240310T070000
END:DAYLIGHT
BEGIN:STANDARD
TZOFFSETFROM:-0400
TZOFFSETTO:-0500
TZNAME:EST
DTSTART:20241103T060000
END:STANDARD
END:VTIMEZONE
BEGIN:VEVENT
DTSTART;TZID=UTC:20241109T100000
DTEND;TZID=UTC:20241109T140000
DTSTAMP:20260421T103540
CREATED:20241018T214935Z
LAST-MODIFIED:20241115T194050Z
UID:10000408-1731146400-1731160800@buddscreek.com
SUMMARY:Practice (10AM - 2PM)
DESCRIPTION:Schedule \n10:00am – 2:00pm: Practice (Standard Breakdown) \n  \nFees \nPractice Fee: $35 \nAnnual $100 for pitbike/atv. $200 for golf cart/UTV \nWeekend $15 for pitbike/atv\, $25 for golf cart/UTV
URL:https://buddscreek.com/event/practice-10am-2pm-2/
END:VEVENT
BEGIN:VEVENT
DTSTART;TZID=America/New_York:20241109T150000
DTEND;TZID=America/New_York:20241109T190000
DTSTAMP:20260421T103540
CREATED:20240905T144817Z
LAST-MODIFIED:20241017T154540Z
UID:10000406-1731164400-1731178800@buddscreek.com
SUMMARY:Capitol Motocross Cup Banquet
DESCRIPTION:Must be a Capitol Cup member. Get your membership at the link below:\n\nhttps://secure.tracksideprereg.com/buddscreek/?event=22\n\n\nFind more info on how to qualify at link below:\n\nhttps://capitolmxcup.com/faq/\n\n\nFree ride day 10A-2P\nBanquet starts at 3P\nRide day (organized practice) is free Capitol Cup members\n\nRide day (organized practice) is open to anyone for $30\n\n\nBanquet is free for the racer and 1 guest!  Each additional guest is $25 payable at the entrance to the banquet area.
URL:https://buddscreek.com/event/capitol-motocross-cup-banquet/
END:VEVENT
END:VCALENDAR