BEGIN:VCALENDAR
VERSION:2.0
PRODID:-//Budds Creek - ECPv6.9.0//NONSGML v1.0//EN
CALSCALE:GREGORIAN
METHOD:PUBLISH
X-WR-CALNAME:Budds Creek
X-ORIGINAL-URL:https://buddscreek.com
X-WR-CALDESC:Events for Budds Creek
REFRESH-INTERVAL;VALUE=DURATION:PT1H
X-Robots-Tag:noindex
X-PUBLISHED-TTL:PT1H
BEGIN:VTIMEZONE
TZID:UTC
BEGIN:STANDARD
TZOFFSETFROM:+0000
TZOFFSETTO:+0000
TZNAME:UTC
DTSTART:20240101T000000
END:STANDARD
END:VTIMEZONE
BEGIN:VEVENT
DTSTART;TZID=UTC:20241006T080000
DTEND;TZID=UTC:20241006T170000
DTSTAMP:20260421T091346
CREATED:20231229T184015Z
LAST-MODIFIED:20240928T175335Z
UID:10000355-1728201600-1728234000@buddscreek.com
SUMMARY:ECEA Hare Scrambles
DESCRIPTION:Race Info \nECEA \n  \nSchedule \nSunday \n6:00am Gates Open \n10:00am: Morning Race \n1:00pm: Main Event \n \nFees \nAdult Gate Fee: $10 \nYouth Gate Fee (5 and under): $5
URL:https://buddscreek.com/event/ecea-hare-scrambles-2/
END:VEVENT
END:VCALENDAR