BEGIN:VCALENDAR
VERSION:2.0
PRODID:-//Budds Creek - ECPv6.9.0//NONSGML v1.0//EN
CALSCALE:GREGORIAN
METHOD:PUBLISH
X-ORIGINAL-URL:https://buddscreek.com
X-WR-CALDESC:Events for Budds Creek
REFRESH-INTERVAL;VALUE=DURATION:PT1H
X-Robots-Tag:noindex
X-PUBLISHED-TTL:PT1H
BEGIN:VTIMEZONE
TZID:UTC
BEGIN:STANDARD
TZOFFSETFROM:+0000
TZOFFSETTO:+0000
TZNAME:UTC
DTSTART:20240101T000000
END:STANDARD
END:VTIMEZONE
BEGIN:VEVENT
DTSTART;TZID=UTC:20241005T080000
DTEND;TZID=UTC:20241005T170000
DTSTAMP:20260421T081941
CREATED:20231229T183832Z
LAST-MODIFIED:20240928T175025Z
UID:10000354-1728115200-1728147600@buddscreek.com
SUMMARY:ECEA Hare Scrambles
DESCRIPTION:Race Info \nECEA \n  \nSchedule \nFriday \n5:00pm-10:00pm: Gates Open \n  \nSaturday \n8:00am-10:00pm: Gates Open \n10:00am: Registration Opens \n12:00pm: 50cc Race \n1:30pm: 65cc Race \n3:30pm: 85cc Race \n \nFees \nAdult Gate Fee: $10 \nYouth Gate Fee (5 and under): $5
URL:https://buddscreek.com/event/ecea-hare-scrambles/
END:VEVENT
END:VCALENDAR