BEGIN:VCALENDAR
VERSION:2.0
PRODID:-//Budds Creek - ECPv6.9.0//NONSGML v1.0//EN
CALSCALE:GREGORIAN
METHOD:PUBLISH
X-ORIGINAL-URL:https://buddscreek.com
X-WR-CALDESC:Events for Budds Creek
REFRESH-INTERVAL;VALUE=DURATION:PT1H
X-Robots-Tag:noindex
X-PUBLISHED-TTL:PT1H
BEGIN:VTIMEZONE
TZID:UTC
BEGIN:STANDARD
TZOFFSETFROM:+0000
TZOFFSETTO:+0000
TZNAME:UTC
DTSTART:20240101T000000
END:STANDARD
END:VTIMEZONE
BEGIN:VEVENT
DTSTART;TZID=UTC:20240928T090000
DTEND;TZID=UTC:20240928T150000
DTSTAMP:20260421T081142
CREATED:20240828T022644Z
LAST-MODIFIED:20241115T194319Z
UID:10000403-1727514000-1727535600@buddscreek.com
SUMMARY:Practice
DESCRIPTION:Schedule \n9:00am – 3:00pm: Practice (Standard Breakdown) \n  \nFees \nGate Fee (Saturday Only): $5 \nPractice Fee: $40 \nAnnual $100 for pitbike/atv. $200 for golf cart/UTV \nWeekend $15 for pitbike/atv\, $25 for golf cart/UTV
URL:https://buddscreek.com/event/practice-3/
END:VEVENT
END:VCALENDAR