BEGIN:VCALENDAR
VERSION:2.0
PRODID:-//Budds Creek - ECPv6.9.0//NONSGML v1.0//EN
CALSCALE:GREGORIAN
METHOD:PUBLISH
X-WR-CALNAME:Budds Creek
X-ORIGINAL-URL:https://buddscreek.com
X-WR-CALDESC:Events for Budds Creek
REFRESH-INTERVAL;VALUE=DURATION:PT1H
X-Robots-Tag:noindex
X-PUBLISHED-TTL:PT1H
BEGIN:VTIMEZONE
TZID:UTC
BEGIN:STANDARD
TZOFFSETFROM:+0000
TZOFFSETTO:+0000
TZNAME:UTC
DTSTART:20240101T000000
END:STANDARD
END:VTIMEZONE
BEGIN:VEVENT
DTSTART;TZID=UTC:20240921T080000
DTEND;TZID=UTC:20240921T170000
DTSTAMP:20260421T080826
CREATED:20231229T021522Z
LAST-MODIFIED:20240920T031058Z
UID:10000353-1726905600-1726938000@buddscreek.com
SUMMARY:Masters MX - Race
DESCRIPTION:*Casual racing open to all big bikes* \nRace Info \nMasters MX \nOnline sign up: https://secure.tracksideprereg.com/buddscreek/?event=47 \n \nSchedule \n6:00am: Gates Open \n7:00am: Registration Opens \n8:30am: Riders Meeting \n9:00am: Practice \n  \nFees \nAdult Gate Fee: $15 \nYouth Gate Fee: $10 \nRegistration per Class: $40 \nAnnual $100 for pitbike/atv. $200 for golf cart/UTV \nWeekend $15 for pitbike/atv\, $25 for golf cart/UTV
URL:https://buddscreek.com/event/masters-mx-race-2/
END:VEVENT
END:VCALENDAR