BEGIN:VCALENDAR
VERSION:2.0
PRODID:-//Budds Creek - ECPv6.9.0//NONSGML v1.0//EN
CALSCALE:GREGORIAN
METHOD:PUBLISH
X-ORIGINAL-URL:https://buddscreek.com
X-WR-CALDESC:Events for Budds Creek
REFRESH-INTERVAL;VALUE=DURATION:PT1H
X-Robots-Tag:noindex
X-PUBLISHED-TTL:PT1H
BEGIN:VTIMEZONE
TZID:UTC
BEGIN:STANDARD
TZOFFSETFROM:+0000
TZOFFSETTO:+0000
TZNAME:UTC
DTSTART:20240101T000000
END:STANDARD
END:VTIMEZONE
BEGIN:VEVENT
DTSTART;TZID=UTC:20240915T080000
DTEND;TZID=UTC:20240915T170000
DTSTAMP:20260421T081220
CREATED:20231229T003026Z
LAST-MODIFIED:20240909T224050Z
UID:10000344-1726387200-1726419600@buddscreek.com
SUMMARY:Maryland State Championship (Capitol MX Cup / District 13) - Race
DESCRIPTION:Race Info \nCapitol MX Cup \nCapitol Cup Membership Registration \nDistrict 13 \n\nOnline sign up: https://secure.tracksideprereg.com/buddscreek/?event=44\nTransponder rental: https://secure.tracksideprereg.com/timenscore/\n\nClass Breakdown \nCapitol Cup / D13 Class Breakdown \n  \nSchedule \n*Gates open all day Friday through Saturday at 10PM and will reopen 6AM Sunday*If participating in MDMX Clinic you can arrive on Thursday* \n6am: Gates Open \n6:30am – 8:00am: In Person Signup \n7:30am: Riders Meeting \n8:00am: Practice \nRace order will be completed ASAP following the closing of registration. Racing begins following practice. \n  \nSunday Practice Order \n-A/B \n-85/65 \n-50 Half Track \n-C/Vet \n-50 Full Track \n  \nFees \nAdult Gate Fee (Ages 12+ and all participants): $15 \nYouth Gate Fee (Non participants ages 6-11): $10 \nRegistration per Class: $40 \nAnnual $100 for pitbike/atv. $200 for golf cart/UTV \nWeekend $15 for pitbike/atv\, $25 for golf cart/UTV
URL:https://buddscreek.com/event/maryland-state-championship-capitol-mx-cup-district-13-race/
END:VEVENT
END:VCALENDAR