BEGIN:VCALENDAR
VERSION:2.0
PRODID:-//Budds Creek - ECPv6.9.0//NONSGML v1.0//EN
CALSCALE:GREGORIAN
METHOD:PUBLISH
X-WR-CALNAME:Budds Creek
X-ORIGINAL-URL:https://buddscreek.com
X-WR-CALDESC:Events for Budds Creek
REFRESH-INTERVAL;VALUE=DURATION:PT1H
X-Robots-Tag:noindex
X-PUBLISHED-TTL:PT1H
BEGIN:VTIMEZONE
TZID:UTC
BEGIN:STANDARD
TZOFFSETFROM:+0000
TZOFFSETTO:+0000
TZNAME:UTC
DTSTART:20240101T000000
END:STANDARD
END:VTIMEZONE
BEGIN:VEVENT
DTSTART;TZID=UTC:20240913T080000
DTEND;TZID=UTC:20240913T150000
DTSTAMP:20260421T080902
CREATED:20240828T023236Z
LAST-MODIFIED:20240909T223946Z
UID:10000405-1726214400-1726239600@buddscreek.com
SUMMARY:MDMX Clinic Training
DESCRIPTION:If participating in MDMX Clinic you can arrive on Thursday \n*Gates open all day Friday through Saturday at 10PM and will reopen 6AM Sunday*
URL:https://buddscreek.com/event/mdmx-clinic-training/
END:VEVENT
END:VCALENDAR