BEGIN:VCALENDAR
VERSION:2.0
PRODID:-//Budds Creek - ECPv6.9.0//NONSGML v1.0//EN
CALSCALE:GREGORIAN
METHOD:PUBLISH
X-WR-CALNAME:Budds Creek
X-ORIGINAL-URL:https://buddscreek.com
X-WR-CALDESC:Events for Budds Creek
REFRESH-INTERVAL;VALUE=DURATION:PT1H
X-Robots-Tag:noindex
X-PUBLISHED-TTL:PT1H
BEGIN:VTIMEZONE
TZID:UTC
BEGIN:STANDARD
TZOFFSETFROM:+0000
TZOFFSETTO:+0000
TZNAME:UTC
DTSTART:20240101T000000
END:STANDARD
END:VTIMEZONE
BEGIN:VEVENT
DTSTART;TZID=UTC:20240901T080000
DTEND;TZID=UTC:20240901T170000
DTSTAMP:20260421T080831
CREATED:20240731T185541Z
LAST-MODIFIED:20240731T185541Z
UID:10000384-1725177600-1725210000@buddscreek.com
SUMMARY:TOR Offroad
DESCRIPTION:Event Info\n\n\nTOR Offroad Contact: 610-842-4197\n\n\n\n\n\nRacing Format\n\n\n\n\nTwo 30 minute motos \n\n\nOverall position will be determined by your combined moto finishes  \n\n\nexample: 1st +1st = 2 points \n\n\nLowest score wins  \n\n\nTie breaker goes to best second moto finish \n\n\nDead engine start procedure with 1 minute separating classes \n\n\n\n\nTrack Breakdown\n\n\n\n\n50% flowing woods with multiple line selection \n\n\n40% motocross/open field section \n\n\n10% D-TOR section with an easy alternate route \n\n\nConsists of rocks/logs/tires etc.
URL:https://buddscreek.com/event/tor-offroad-2/
END:VEVENT
END:VCALENDAR